BEGIN:VCALENDAR
VERSION:2.0
PRODID:-//TYPO3/NONSGML News system (news)//EN
BEGIN:VEVENT
SUMMARY:Arnold-Janssen-Festtag
DESCRIPTION:Für alle Freunde und Verehrer des Hl. Arnold Janssen\n\nMehr erfahren: https://www.lebenjetzt.eu/termine/detail/arnold-janssen-festtag.html\n\nVeranstalter:\nCentrum St. Michael | Steyl\nTelefon: +31 077 3261 353\nE-Mail: csm@steyl.eu\nWebseite: https://www.steyl.org/programma-kurse/\n\nOrt:\nCentrum St. Michael\nTelefon: +31 77 3261 353\nFax: +31 77 3261 316\nE-Mail: csm@steyl.eu\nWebseite: https://www.steyl.org/programma-kurse/\n\n
DTSTAMP:20260219T121348CET
DTSTART:20270117T103000CET
DTEND:20270117T140000CET
LOCATION:Centrum St. Michael 
END:VEVENT
END:VCALENDAR