BEGIN:VCALENDAR
VERSION:2.0
PRODID:-//TYPO3/NONSGML News system (news)//EN
BEGIN:VEVENT
SUMMARY:Fördererexerzitien: Die Ernte meines Lebens - Exerzitien für Menschen im Herbst des Lebens
DESCRIPTION:Mehr erfahren: https://www.lebenjetzt.eu/termine/detail/foerdererexerzitien-die-ernte-meines-lebens-exerzitien-fuer-menschen-im-herbst-des-lebens-august-2026.html\n\nVeranstalter:\nMedienapostolat der Steyler Missionare\nTelefon: 00492157120237\nE-Mail: leser-service@lebenjetzt.eu\nWebseite: https://www.steyler.de/de/medienapostolat/\n\nOrt:\nBildungs- & Exerzitienhaus Carmel Springiersbach\nTelefon: +49 6532 93 95 0\nFax: +49 6532 93 95 80\nE-Mail: exerzitienhaus.springiersbach@karmeliten.de\nWebseite: https://karmeliten.de/angebote/exerzitienhaus/index.html\n\n
DTSTAMP:20260219T105934CET
DTSTART:20260823T180000CEST
DTEND:20260827T100000CEST
LOCATION:Bildungs- & Exerzitienhaus Carmel Springiersbach 
END:VEVENT
END:VCALENDAR