BEGIN:VCALENDAR
VERSION:2.0
PRODID:-//TYPO3/NONSGML News system (news)//EN
BEGIN:VEVENT
SUMMARY:Fördererexerzitien: Die Ernte meines Lebens - Exerzitien für Menschen im Herbst des Lebens
DESCRIPTION:Mehr erfahren: https://www.lebenjetzt.eu/termine/detail/foerdererexerzitien-die-ernte-meines-lebens-exerzitien-fuer-menschen-im-herbst-des-lebens-juli-2026.html\n\nVeranstalter:\nMedienapostolat der Steyler Missionare\nTelefon: 00492157120237\nE-Mail: leser-service@lebenjetzt.eu\nWebseite: https://www.steyler.de/de/medienapostolat/\n\nOrt:\nKloster Armstorf, 84427 St. Wolfgang\n\n
DTSTAMP:20260408T123616CEST
DTSTART:20260727T180000CEST
DTEND:20260731T100000CEST
LOCATION: Kloster Armstorf, 84427 St. Wolfgang
END:VEVENT
END:VCALENDAR