BEGIN:VCALENDAR
VERSION:2.0
PRODID:-//TYPO3/NONSGML News system (news)//EN
BEGIN:VEVENT
SUMMARY:Fördererexerzitien Lebensräume – Räume zum Leben entdecken
DESCRIPTION:„In der Liebe verwurzelt und auf sie gegründet, sollt ihr zusammen mit allen Heiligen dazu fähig sein, die Länge und Breite, die Höhe und Tiefe zu ermessen und die Liebe Christi zu verstehen, die alle Erkenntnisse übersteigt. So werdet ihr mehr und mehr von der ganzen Fülle Gottes erfüllt“\n(Eph 3, 17.18)\n\nMehr erfahren: https://www.lebenjetzt.eu/termine/detail/foerdererexerzitien-lebensraeume-raeume-zum-leben-entdecken-juni-2026.html\n\nVeranstalter:\nMedienapostolat der Steyler Missionare\nTelefon: 00492157120237\nE-Mail: leser-service@lebenjetzt.eu\nWebseite: https://www.steyler.de/de/medienapostolat/\n\nOrt:\nCentrum St. Michael\nTelefon: +31 77 3261 353\nFax: +31 77 3261 316\nE-Mail: csm@steyl.eu\nWebseite: https://www.steyl.org/programma-kurse/\n\n
DTSTAMP:20260219T085157CET
DTSTART:20260615T180000CEST
DTEND:20260619T100000CEST
LOCATION:Centrum St. Michael 
END:VEVENT
END:VCALENDAR