BEGIN:VCALENDAR
VERSION:2.0
PRODID:-//TYPO3/NONSGML News system (news)//EN
BEGIN:VEVENT
SUMMARY:Förderertreffen in Münsterschwarzach
DESCRIPTION:Das Medienapostolat der Steyler Missionare lädt alle Förderinnen, Förderer und Interessierte zum Treffen und Kennenlernen ein\n\nMehr erfahren: https://www.lebenjetzt.eu/termine/detail/foerderertreffen-in-muensterschwarzach.html\n\nVeranstalter:\nMedienapostolat der Steyler Missionare\nTelefon: 00492157120237\nE-Mail: leser-service@lebenjetzt.eu\nWebseite: https://www.steyler.de/de/medienapostolat/\n\nOrt:\nAbtei Münsterschwarzach, Schweinfurter Straße 40, 97359 Münsterschwarzach\n\n
DTSTAMP:20260219T112057CET
DTSTART:20260713T103000CEST
DTEND:20260713T170000CEST
LOCATION: Abtei Münsterschwarzach, Schweinfurter Straße 40, 97359 Münsterschwarzach
END:VEVENT
END:VCALENDAR