BEGIN:VCALENDAR
VERSION:2.0
PRODID:-//TYPO3/NONSGML News system (news)//EN
BEGIN:VEVENT
SUMMARY:Förderertreffen in Regensburg
DESCRIPTION:Das Medienapostolat der Steyler Missionare lädt alle Förderinnen, Förderer und Interessierte zum Treffen und Kennenlernen ein\n\nMehr erfahren: https://www.lebenjetzt.eu/termine/detail/foerderertreffen-in-regensburg.html\n\nVeranstalter:\nMedienapostolat der Steyler Missionare\nTelefon: 00492157120237\nE-Mail: leser-service@lebenjetzt.eu\nWebseite: https://www.steyler.de/de/medienapostolat/\n\nOrt:\nKolpinghaus Regensburg, Adolph-Kolping-Straße 1, 93047 Regensburg\n\n
DTSTAMP:20260401T143255CEST
DTSTART:20260716T133000CEST
DTEND:20260716T170000CEST
LOCATION: Kolpinghaus Regensburg, Adolph-Kolping-Straße 1, 93047 Regensburg
END:VEVENT
END:VCALENDAR