BEGIN:VCALENDAR
VERSION:2.0
PRODID:-//TYPO3/NONSGML News system (news)//EN
BEGIN:VEVENT
SUMMARY:Förderertreffen in St. Arbogast
DESCRIPTION:Das Medienapostolat der Steyler Missionare lädt alle Förderinnen, Förderer und Interessierte zum Treffen und Kennenlernen ein\n\nMehr erfahren: https://www.lebenjetzt.eu/termine/detail/foerderertreffen-in-st-arbogast.html\n\nVeranstalter:\nMedienapostolat der Steyler Missionare\nTelefon: 00492157120237\nE-Mail: leser-service@lebenjetzt.eu\nWebseite: https://www.steyler.de/de/medienapostolat/\n\nOrt:\nBildungshaus St. Arbogast, 6840\n\n
DTSTAMP:20260409T154115CEST
DTSTART:20260507T110000CEST
DTEND:20260507T163000CEST
LOCATION: Bildungshaus St. Arbogast, 6840
END:VEVENT
END:VCALENDAR