BEGIN:VCALENDAR
VERSION:2.0
PRODID:-//TYPO3/NONSGML News system (news)//EN
BEGIN:VEVENT
SUMMARY:Förderertreffen in Würzburg
DESCRIPTION:Das Medienapostolat der Steyler Missionare lädt alle Förderinnen, Förderer und Interessierte zum Treffen und Kennenlernen ein\n\nMehr erfahren: https://www.lebenjetzt.eu/termine/detail/foerderertreffen-in-wuerzburg.html\n\nVeranstalter:\nMedienapostolat der Steyler Missionare\nTelefon: 00492157120237\nE-Mail: leser-service@lebenjetzt.eu\nWebseite: https://www.steyler.de/de/medienapostolat/\n\nOrt:\nExerzitienhaus Himmelspforten, Mainaustraße 42, 97082 Würzburg\n\n
DTSTAMP:20260303T121101CET
DTSTART:20260928T133000CEST
DTEND:20260928T170000CEST
LOCATION: Exerzitienhaus Himmelspforten, Mainaustraße 42, 97082 Würzburg
END:VEVENT
END:VCALENDAR