BEGIN:VCALENDAR
VERSION:2.0
PRODID:-//TYPO3/NONSGML News system (news)//EN
BEGIN:VEVENT
SUMMARY:Meditation und Begegnung
DESCRIPTION:Auszeit\nsich entspannen\nalte Muster auflösen\nLebensfreude neu entdecken\ndie eigene Stärke wieder spüren\nsich austauschen und Anregungen aufnehmen\n\nMehr erfahren: https://www.lebenjetzt.eu/termine/detail/meditation-und-begegnung-november-2026.html\n\nVeranstalter:\nCentrum St. Michael | Steyl\nTelefon: +31 077 3261 353\nE-Mail: csm@steyl.eu\nWebseite: https://www.steyl.org/programma-kurse/\n\nOrt:\nCentrum St. Michael\nTelefon: +31 77 3261 353\nFax: +31 77 3261 316\nE-Mail: csm@steyl.eu\nWebseite: https://www.steyl.org/programma-kurse/\n\n
DTSTAMP:20260219T115200CET
DTSTART:20261119T180000CET
DTEND:20261122T140000CET
LOCATION:Centrum St. Michael 
END:VEVENT
END:VCALENDAR