BEGIN:VCALENDAR
VERSION:2.0
PRODID:-//TYPO3/NONSGML News system (news)//EN
BEGIN:VEVENT
SUMMARY:Singen mit Herz und Seele
DESCRIPTION:Für alle, mit oder ohne Gesangserfahrung, steht im Klosterdorf Steyl von Montag bis Donnerstag das Singen für sich selbst und gemeinsam mit anderen auf dem Programm. Indem Sie Ihrer Stimme und Ihrem Körper erlauben sich gegenseitig zu beeinflussen, entdecken Sie immer mehr Raum in sich selbst und betreten eine überraschende Entdeckungsreise in Ihren eigenen Klang.\n\nMehr erfahren: https://www.lebenjetzt.eu/termine/detail/singen-mit-herz-und-seele-november-2026.html\n\nVeranstalter:\nPetra Slagman\n\nOrt:\nCentrum St. Michael\nTelefon: +31 77 3261 353\nFax: +31 77 3261 316\nE-Mail: csm@steyl.eu\nWebseite: https://www.steyl.org/programma-kurse/\n\n
DTSTAMP:20260219T113944CET
DTSTART:20261116T120000CET
DTEND:20261119T120000CET
LOCATION:Centrum St. Michael 
END:VEVENT
END:VCALENDAR