BEGIN:VCALENDAR
VERSION:2.0
PRODID:-//TYPO3/NONSGML News system (news)//EN
BEGIN:VEVENT
SUMMARY:Steyler Ethik Bank Webinar: Finanzworkshop für Frauen: Der Weg zum finanziellen Erfolg
DESCRIPTION:Frauen kümmern sich um so vieles – doch wenn es um Geld geht, überlassen sie oft anderen das Feld. Dabei ist finanzielle Unabhängigkeit der Schlüssel zu einer sicheren Zukunft. In diesem Online-Seminar zeigen wir praxisnah und verständlich, wie jede Frau ihre Finanzen souverän managen kann. Von Frauen für Frauen\n\nMehr erfahren: https://www.lebenjetzt.eu/termine/detail/steyler-ethik-bank-webinar-finanzworkshop-fuer-frauen-der-weg-zum-finanziellen-erfolg-juni-2026.html\n\nVeranstalter:\nSteyler Ethik Bank\nTelefon: 0049224112050\nE-Mail: kontakt@steylerbank.de\nWebseite: https://www.steyler-bank.de/\n\nOrt:\nWebinar\n\n
DTSTAMP:20260326T131832CET
DTSTART:20260625T190000CEST
DTEND:20260625T190000CEST
LOCATION: Webinar
END:VEVENT
END:VCALENDAR