BEGIN:VCALENDAR
VERSION:2.0
PRODID:-//TYPO3/NONSGML News system (news)//EN
BEGIN:VEVENT
SUMMARY:Yoga, Klang und Stille
DESCRIPTION:Raum und Zeit für Dich und Deinen Körper\nAchtsamkeit\nMeditation und Klang\nNatur und Stille\n\nVon Buddha stammt das Wort: „Du kannst keinen Weg gehen, wenn Du nicht selbst dieser Weg geworden bist.“ Und Jesus sagt: „Ich bin der Weg die Wahrheit und das Leben.“ Im Einklang mit sich selbst und seinem Weg sein. Das ist eine lebenslange Übung, ein lebenslanger Aufbruch.\n\nMehr erfahren: https://www.lebenjetzt.eu/termine/detail/yoga-klang-und-stille-1.html\n\nVeranstalter:\nMarkus Woettki\n\nOrt:\nCentrum St. Michael\nTelefon: +31 77 3261 353\nFax: +31 77 3261 316\nE-Mail: csm@steyl.eu\nWebseite: https://www.steyl.org/programma-kurse/\n\n
DTSTAMP:20260219T122253CET
DTSTART:20261009T180000CEST
DTEND:20261011T130000CEST
LOCATION:Centrum St. Michael 
END:VEVENT
END:VCALENDAR