BEGIN:VCALENDAR
VERSION:2.0
PRODID:-//TYPO3/NONSGML News system (news)//EN
BEGIN:VEVENT
SUMMARY:Zeit für mich - Einfach nur sein
DESCRIPTION:Die Bedürfnisse Anderer zu stillen, darin sind wir gut - aber wann erlauben wir uns, für unser eigenes Wohlbefinden zu sorgen?\n\nMehr erfahren: https://www.lebenjetzt.eu/termine/detail/zeit-fuer-mich-einfach-nur-sein.html\n\nVeranstalter:\nGabriele Bongardt\n\nOrt:\nCentrum St. Michael\nTelefon: +31 77 3261 353\nFax: +31 77 3261 316\nE-Mail: csm@steyl.eu\nWebseite: https://www.steyl.org/programma-kurse/\n\n
DTSTAMP:20260219T120936CET
DTSTART:20260904T120000CEST
DTEND:20260906T120000CEST
LOCATION:Centrum St. Michael 
END:VEVENT
END:VCALENDAR